BEGIN:VCALENDAR
VERSION:2.0
PRODID:icalendar-ruby
CALSCALE:GREGORIAN
METHOD:PUBLISH
BEGIN:VEVENT
DTSTAMP:20260422T113920Z
UID:83-87507@wordsway.church
DTSTART:20260929T003000Z
DTEND:20260929T013000Z
CLASS:PUBLIC
CREATED:20260421T185847
DESCRIPTION:Our Young Adult Bible Study is a space for 18–29-year-olds to
  grow deeper in God’s Word while building real\, life-giving community. 
 Each Monday at 6:30 PM\, we gather for honest conversation\, practical tea
 ching\, and encouragement that meets you right where you are.\nWhether you
 ’ve grown up in church or are just beginning to explore your faith\, you
  belong here. Come as you are\, bring your questions\, and expect meaningf
 ul discussion\, authentic connection\, and biblical truth that applies to 
 everyday life.\nWe can’t wait to grow with you.
LAST-MODIFIED:20260421T185847
LOCATION:10200 James A Reed Rd. Kansas City Mo 64134
SUMMARY:Young Adults Bible Study
URL;VALUE=URI:https://wordsway.church/events/young-adults-bible-study/2026-
 09-28
ATTACH;FILENAME=Event-YA.png;FMTTYPE=image/png:https://dq5pwpg1q8ru0.cloudf
 ront.net/2026/03/01/04/50/27/e2ed62d7-4932-43b6-afda-fdd78353798d/Event-YA
 .png
END:VEVENT
END:VCALENDAR
